BEGIN:VCALENDAR
VERSION:2.0
PRODID:-//Duchenne Parent Project - ECPv6.7.0//NONSGML v1.0//EN
CALSCALE:GREGORIAN
METHOD:PUBLISH
X-WR-CALNAME:Duchenne Parent Project
X-ORIGINAL-URL:https://duchenne.nl
X-WR-CALDESC:Evenementen voor Duchenne Parent Project
REFRESH-INTERVAL;VALUE=DURATION:PT1H
X-Robots-Tag:noindex
X-PUBLISHED-TTL:PT1H
BEGIN:VTIMEZONE
TZID:Europe/Amsterdam
BEGIN:DAYLIGHT
TZOFFSETFROM:+0100
TZOFFSETTO:+0200
TZNAME:CEST
DTSTART:20240331T010000
END:DAYLIGHT
BEGIN:STANDARD
TZOFFSETFROM:+0200
TZOFFSETTO:+0100
TZNAME:CET
DTSTART:20241027T010000
END:STANDARD
END:VTIMEZONE
BEGIN:VEVENT
DTSTART;TZID=Europe/Amsterdam:20240311T200000
DTEND;TZID=Europe/Amsterdam:20240311T210000
DTSTAMP:20260421T230138
CREATED:20240220T113824Z
LAST-MODIFIED:20240220T114602Z
UID:7361-1710187200-1710190800@duchenne.nl
SUMMARY:Webinar Agamree® (vamorolone)
DESCRIPTION:
URL:https://duchenne.nl/event/webinar-agamree-vamorolone/
LOCATION:online
END:VEVENT
END:VCALENDAR