BEGIN:VCALENDAR
VERSION:2.0
PRODID:-//Duchenne Parent Project - ECPv6.7.0//NONSGML v1.0//EN
CALSCALE:GREGORIAN
METHOD:PUBLISH
X-WR-CALNAME:Duchenne Parent Project
X-ORIGINAL-URL:https://duchenne.nl
X-WR-CALDESC:Evenementen voor Duchenne Parent Project
REFRESH-INTERVAL;VALUE=DURATION:PT1H
X-Robots-Tag:noindex
X-PUBLISHED-TTL:PT1H
BEGIN:VTIMEZONE
TZID:Europe/Amsterdam
BEGIN:DAYLIGHT
TZOFFSETFROM:+0100
TZOFFSETTO:+0200
TZNAME:CEST
DTSTART:20240331T010000
END:DAYLIGHT
BEGIN:STANDARD
TZOFFSETFROM:+0200
TZOFFSETTO:+0100
TZNAME:CET
DTSTART:20241027T010000
END:STANDARD
END:VTIMEZONE
BEGIN:VEVENT
DTSTART;TZID=Europe/Amsterdam:20240317T140000
DTEND;TZID=Europe/Amsterdam:20240317T170000
DTSTAMP:20260421T230111
CREATED:20240208T105737Z
LAST-MODIFIED:20240208T105737Z
UID:7341-1710684000-1710694800@duchenne.nl
SUMMARY:Bijeenkomst nieuwe ouders
DESCRIPTION:Save the date!\nZondagmiddag 17 maart 14-17 uur.\n\nVoor ouders van wie hun kind recent (gedurende de laatste jaren) de diagnose Duchenne gekregen heeft\, organiseert het Duchenne Parent Project een bijeenkomst om elkaar te ontmoeten en ervaringen uit te wisselen.\nLocatie en uitnodiging volgt zsm\, maar hou deze datum alvast vrij in je agenda.
URL:https://duchenne.nl/event/bijeenkomst-nieuwe-ouders-2/
END:VEVENT
END:VCALENDAR