BEGIN:VCALENDAR
VERSION:2.0
PRODID:-//Duchenne Parent Project - ECPv6.7.0//NONSGML v1.0//EN
CALSCALE:GREGORIAN
METHOD:PUBLISH
X-WR-CALNAME:Duchenne Parent Project
X-ORIGINAL-URL:https://duchenne.nl
X-WR-CALDESC:Evenementen voor Duchenne Parent Project
REFRESH-INTERVAL;VALUE=DURATION:PT1H
X-Robots-Tag:noindex
X-PUBLISHED-TTL:PT1H
BEGIN:VTIMEZONE
TZID:Europe/Amsterdam
BEGIN:DAYLIGHT
TZOFFSETFROM:+0100
TZOFFSETTO:+0200
TZNAME:CEST
DTSTART:20240331T010000
END:DAYLIGHT
BEGIN:STANDARD
TZOFFSETFROM:+0200
TZOFFSETTO:+0100
TZNAME:CET
DTSTART:20241027T010000
END:STANDARD
END:VTIMEZONE
BEGIN:VEVENT
DTSTART;VALUE=DATE:20240817
DTEND;VALUE=DATE:20240819
DTSTAMP:20260421T141838
CREATED:20240502T142858Z
LAST-MODIFIED:20240502T145443Z
UID:7534-1723852800-1724025599@duchenne.nl
SUMMARY:Duchenne Surf Event
DESCRIPTION:
URL:https://duchenne.nl/event/duchenne-surf-event/
LOCATION:Surfschool de Karavaan\, Ouddorp
END:VEVENT
END:VCALENDAR