BEGIN:VCALENDAR
VERSION:2.0
PRODID:-//Duchenne Parent Project - ECPv6.7.0//NONSGML v1.0//EN
CALSCALE:GREGORIAN
METHOD:PUBLISH
X-ORIGINAL-URL:https://duchenne.nl
X-WR-CALDESC:Evenementen voor Duchenne Parent Project
REFRESH-INTERVAL;VALUE=DURATION:PT1H
X-Robots-Tag:noindex
X-PUBLISHED-TTL:PT1H
BEGIN:VTIMEZONE
TZID:Europe/Amsterdam
BEGIN:DAYLIGHT
TZOFFSETFROM:+0100
TZOFFSETTO:+0200
TZNAME:CEST
DTSTART:20240331T010000
END:DAYLIGHT
BEGIN:STANDARD
TZOFFSETFROM:+0200
TZOFFSETTO:+0100
TZNAME:CET
DTSTART:20241027T010000
END:STANDARD
END:VTIMEZONE
BEGIN:VEVENT
DTSTART;VALUE=DATE:20240907
DTEND;VALUE=DATE:20240908
DTSTAMP:20260421T124215
CREATED:20230404T112437Z
LAST-MODIFIED:20231009T131615Z
UID:6409-1725667200-1725753599@duchenne.nl
SUMMARY:World Duchenne Awareness Day
DESCRIPTION:7 september is de 11e editie van de World Duchenne Awareness Day.  Op deze dag vragen we wereldwijd aandacht voor Duchenne en Becker Spierdystrofie (DMD/BMD)
URL:https://duchenne.nl/event/world-duchenne-awareness-day/
END:VEVENT
END:VCALENDAR