BEGIN:VCALENDAR
VERSION:2.0
PRODID:-//Duchenne Parent Project - ECPv6.7.0//NONSGML v1.0//EN
CALSCALE:GREGORIAN
METHOD:PUBLISH
X-ORIGINAL-URL:https://duchenne.nl
X-WR-CALDESC:Evenementen voor Duchenne Parent Project
REFRESH-INTERVAL;VALUE=DURATION:PT1H
X-Robots-Tag:noindex
X-PUBLISHED-TTL:PT1H
BEGIN:VTIMEZONE
TZID:Europe/Amsterdam
BEGIN:DAYLIGHT
TZOFFSETFROM:+0100
TZOFFSETTO:+0200
TZNAME:CEST
DTSTART:20240331T010000
END:DAYLIGHT
BEGIN:STANDARD
TZOFFSETFROM:+0200
TZOFFSETTO:+0100
TZNAME:CET
DTSTART:20241027T010000
END:STANDARD
END:VTIMEZONE
BEGIN:VEVENT
DTSTART;VALUE=DATE:20240908
DTEND;VALUE=DATE:20240915
DTSTAMP:20260419T140352
CREATED:20230404T111244Z
LAST-MODIFIED:20231009T125904Z
UID:6399-1725753600-1726358399@duchenne.nl
SUMMARY:Duchenne Heroes
DESCRIPTION:Duchenne Heroes is de mooiste meerdaagse offroad-tocht van Europa. Fiets 7 of 3 dagen over spectaculaire mountainbiketracks of prachtige gravelpaden.
URL:https://duchenne.nl/event/duchenne-heroes/
ORGANIZER;CN="Emolife":MAILTO:info@duchenneheroes.nl
END:VEVENT
BEGIN:VEVENT
DTSTART;TZID=Europe/Amsterdam:20240914T130000
DTEND;TZID=Europe/Amsterdam:20240914T160000
DTSTAMP:20260419T140352
CREATED:20240322T130902Z
LAST-MODIFIED:20240402T084853Z
UID:7429-1726318800-1726329600@duchenne.nl
SUMMARY:Duchenne Triathlon
DESCRIPTION:Duchenne Triathlon 2024 – Doe mee! \nOp zaterdag 14 september is er weer de mogelijkheid mee te doen met de Triathlon in Apeldoorn voor Duchenne.\nSchrijf jij je in voor de 1/8e triathlon voor iedereen met de spierziekte Duchenne?
URL:https://duchenne.nl/event/duchenne-triathlon/
LOCATION:Boschbad Apeldoorn
END:VEVENT
END:VCALENDAR