BEGIN:VCALENDAR
VERSION:2.0
PRODID:-//Duchenne Parent Project - ECPv6.7.0//NONSGML v1.0//EN
CALSCALE:GREGORIAN
METHOD:PUBLISH
X-WR-CALNAME:Duchenne Parent Project
X-ORIGINAL-URL:https://duchenne.nl
X-WR-CALDESC:Evenementen voor Duchenne Parent Project
REFRESH-INTERVAL;VALUE=DURATION:PT1H
X-Robots-Tag:noindex
X-PUBLISHED-TTL:PT1H
BEGIN:VTIMEZONE
TZID:Europe/Amsterdam
BEGIN:DAYLIGHT
TZOFFSETFROM:+0100
TZOFFSETTO:+0200
TZNAME:CEST
DTSTART:20230326T010000
END:DAYLIGHT
BEGIN:STANDARD
TZOFFSETFROM:+0200
TZOFFSETTO:+0100
TZNAME:CET
DTSTART:20231029T010000
END:STANDARD
END:VTIMEZONE
BEGIN:VEVENT
DTSTART;VALUE=DATE:20230603
DTEND;VALUE=DATE:20230604
DTSTAMP:20260422T130951
CREATED:20230404T110541Z
LAST-MODIFIED:20230404T111711Z
UID:6391-1685750400-1685836799@duchenne.nl
SUMMARY:Duchenne congres in Burgers' Zoo
DESCRIPTION:Op zaterdag 3 juni organiseert het Duchenne Parent Project een congres voor iedereen die belangstelling heeft voor Duchenne in Burgers’​ Zoo & Safari Meeting Centre te Arnhem. \n 
URL:https://duchenne.nl/event/duchenne-congres-in-burgerszoo/
LOCATION:Burgers’ Zoo\, Safari Meeting Centre
ORGANIZER;CN="Duchenne Parent Project NL":MAILTO:info@duchenne.nl
END:VEVENT
BEGIN:VEVENT
DTSTART;VALUE=DATE:20230617
DTEND;VALUE=DATE:20230618
DTSTAMP:20260422T130951
CREATED:20230404T110955Z
LAST-MODIFIED:20230404T111502Z
UID:6397-1686960000-1687046399@duchenne.nl
SUMMARY:De Duchenne 40
DESCRIPTION:Een sponsorfietstocht waarbij je in je eigen tempo minstens 40 km aflegt en waaraan je op twee manieren kunt deelnemen: \n\nZelfstandig georganiseerd\, vanuit je eigen huis óf\nJe fietst met de georganiseerde tocht The Longest Day in de Loonse en Drunense duinen mee.
URL:https://duchenne.nl/event/de-duchenne-40/
ORGANIZER;CN="Duchenne Parent Project NL":MAILTO:info@duchenne.nl
END:VEVENT
END:VCALENDAR