BEGIN:VCALENDAR
VERSION:2.0
PRODID:-//Duchenne Parent Project - ECPv6.7.0//NONSGML v1.0//EN
CALSCALE:GREGORIAN
METHOD:PUBLISH
X-WR-CALNAME:Duchenne Parent Project
X-ORIGINAL-URL:https://duchenne.nl
X-WR-CALDESC:Evenementen voor Duchenne Parent Project
REFRESH-INTERVAL;VALUE=DURATION:PT1H
X-Robots-Tag:noindex
X-PUBLISHED-TTL:PT1H
BEGIN:VTIMEZONE
TZID:Europe/Amsterdam
BEGIN:DAYLIGHT
TZOFFSETFROM:+0100
TZOFFSETTO:+0200
TZNAME:CEST
DTSTART:20230326T010000
END:DAYLIGHT
BEGIN:STANDARD
TZOFFSETFROM:+0200
TZOFFSETTO:+0100
TZNAME:CET
DTSTART:20231029T010000
END:STANDARD
END:VTIMEZONE
BEGIN:VEVENT
DTSTART;TZID=Europe/Amsterdam:20231105T140000
DTEND;TZID=Europe/Amsterdam:20231105T160000
DTSTAMP:20260422T043617
CREATED:20231009T130312Z
LAST-MODIFIED:20231009T130312Z
UID:6877-1699192800-1699200000@duchenne.nl
SUMMARY:Duchenne Festival: Barrières Breken
DESCRIPTION:Zondagmiddag 5 november is het zover: Het Duchenne Festival ‘Barrières Breken’!\nHet Festival is georganiseerd dóór mensen met Duchenne en vóór mensen met Duchenne.
URL:https://duchenne.nl/event/duchenne-festival-barrieres-breken/
LOCATION:online
ORGANIZER;CN="Duchenne Parent Project NL":MAILTO:info@duchenne.nl
END:VEVENT
BEGIN:VEVENT
DTSTART;TZID=Europe/Amsterdam:20231120T193000
DTEND;TZID=Europe/Amsterdam:20231120T210000
DTSTAMP:20260422T043617
CREATED:20231016T085207Z
LAST-MODIFIED:20231027T093333Z
UID:6898-1700508600-1700514000@duchenne.nl
SUMMARY:Webinar pgb en zorgwetten
DESCRIPTION:
URL:https://duchenne.nl/event/webinar-pgb-en-zorgwetten/
LOCATION:online
ORGANIZER;CN="Duchenne Parent Project NL":MAILTO:info@duchenne.nl
END:VEVENT
END:VCALENDAR